BEGIN:VCALENDAR
VERSION:2.0
PRODID:icalendar-ruby
CALSCALE:GREGORIAN
METHOD:PUBLISH
BEGIN:VEVENT
DTSTAMP:20260423T043154Z
UID:9-235344@iglesiaverticalict.com
DTSTART:20261026T000000Z
DTEND:20261026T013000Z
CLASS:PUBLIC
CREATED:20260422T202041
DESCRIPTION:
LAST-MODIFIED:20260422T202041
LOCATION:812 S Oliver Ave\, Wichita\, KS 67218
SUMMARY:Servicio Dominical
URL;VALUE=URI:https://iglesiaverticalict.com/events/servicio-dominical/2026
 -10-25
ATTACH;FILENAME=IMG_5929.jpeg;FMTTYPE=image/jpeg:https://dq5pwpg1q8ru0.clou
 dfront.net/2025/11/11/15/13/59/95b8e4a8-7042-4db4-87e3-abca9e96f213/IMG_59
 29.jpeg
END:VEVENT
END:VCALENDAR
